BEGIN:VCALENDAR
VERSION:2.0
PRODID:-//Hofbrennerei Klatt  Craft Spirits - ECPv6.15.17.1//NONSGML v1.0//EN
CALSCALE:GREGORIAN
METHOD:PUBLISH
X-WR-CALNAME:Hofbrennerei Klatt  Craft Spirits
X-ORIGINAL-URL:https://hofbrennerei-klatt.de
X-WR-CALDESC:Veranstaltungen für Hofbrennerei Klatt  Craft Spirits
REFRESH-INTERVAL;VALUE=DURATION:PT1H
X-Robots-Tag:noindex
X-PUBLISHED-TTL:PT1H
BEGIN:VTIMEZONE
TZID:Europe/Paris
BEGIN:DAYLIGHT
TZOFFSETFROM:+0100
TZOFFSETTO:+0200
TZNAME:CEST
DTSTART:20220327T010000
END:DAYLIGHT
BEGIN:STANDARD
TZOFFSETFROM:+0200
TZOFFSETTO:+0100
TZNAME:CET
DTSTART:20221030T010000
END:STANDARD
BEGIN:DAYLIGHT
TZOFFSETFROM:+0100
TZOFFSETTO:+0200
TZNAME:CEST
DTSTART:20230326T010000
END:DAYLIGHT
BEGIN:STANDARD
TZOFFSETFROM:+0200
TZOFFSETTO:+0100
TZNAME:CET
DTSTART:20231029T010000
END:STANDARD
BEGIN:DAYLIGHT
TZOFFSETFROM:+0100
TZOFFSETTO:+0200
TZNAME:CEST
DTSTART:20240331T010000
END:DAYLIGHT
BEGIN:STANDARD
TZOFFSETFROM:+0200
TZOFFSETTO:+0100
TZNAME:CET
DTSTART:20241027T010000
END:STANDARD
BEGIN:DAYLIGHT
TZOFFSETFROM:+0100
TZOFFSETTO:+0200
TZNAME:CEST
DTSTART:20250330T010000
END:DAYLIGHT
BEGIN:STANDARD
TZOFFSETFROM:+0200
TZOFFSETTO:+0100
TZNAME:CET
DTSTART:20251026T010000
END:STANDARD
BEGIN:DAYLIGHT
TZOFFSETFROM:+0100
TZOFFSETTO:+0200
TZNAME:CEST
DTSTART:20260329T010000
END:DAYLIGHT
BEGIN:STANDARD
TZOFFSETFROM:+0200
TZOFFSETTO:+0100
TZNAME:CET
DTSTART:20261025T010000
END:STANDARD
BEGIN:DAYLIGHT
TZOFFSETFROM:+0100
TZOFFSETTO:+0200
TZNAME:CEST
DTSTART:20270328T010000
END:DAYLIGHT
BEGIN:STANDARD
TZOFFSETFROM:+0200
TZOFFSETTO:+0100
TZNAME:CET
DTSTART:20271031T010000
END:STANDARD
END:VTIMEZONE
BEGIN:VEVENT
DTSTART;VALUE=DATE:20260418
DTEND;VALUE=DATE:20260419
DTSTAMP:20260422T120735
CREATED:20260227T060814Z
LAST-MODIFIED:20260227T060814Z
UID:711-1776470400-1776556799@hofbrennerei-klatt.de
SUMMARY:Weinverführung
DESCRIPTION:Fam. Link bietet einen wohlschmeckenden Stadtrundgang\, der Großbottwars beste Seite zeigt. Enge Gassen\, stolzes Fachwerk\, tiefe Keller\, guter Wein\, eine Überraschung aus dem Backhäusle und nette Geschichten bleiben Ihnen in guter Erinnerung. \n  \nAnmeldungen nur über  wein-ver-fuehrung.de !
URL:https://hofbrennerei-klatt.de/event/weinverfuehrung-5/
ORGANIZER;CN="wein-ver-fuehrung.de":MAILTO:link-grossbottwar@t-online.de
END:VEVENT
BEGIN:VEVENT
DTSTART;VALUE=DATE:20260407
DTEND;VALUE=DATE:20260408
DTSTAMP:20260422T120735
CREATED:20260227T060526Z
LAST-MODIFIED:20260227T060526Z
UID:709-1775520000-1775606399@hofbrennerei-klatt.de
SUMMARY:Weinverführung
DESCRIPTION:Fam. Link bietet einen wohlschmeckenden Stadtrundgang\, der Großbottwars beste Seite zeigt. Enge Gassen\, stolzes Fachwerk\, tiefe Keller\, guter Wein\, eine Überraschung aus dem Backhäusle und nette Geschichten bleiben Ihnen in guter Erinnerung. \n  \nAnmeldungen nur über  wein-ver-fuehrung.de !
URL:https://hofbrennerei-klatt.de/event/weinverfuehrung-4/
ORGANIZER;CN="wein-ver-fuehrung.de":MAILTO:link-grossbottwar@t-online.de
END:VEVENT
BEGIN:VEVENT
DTSTART;TZID=Europe/Paris:20260322T110000
DTEND;TZID=Europe/Paris:20260322T180000
DTSTAMP:20260422T120735
CREATED:20260227T060247Z
LAST-MODIFIED:20260227T060247Z
UID:707-1774177200-1774202400@hofbrennerei-klatt.de
SUMMARY:Märzklopfen
DESCRIPTION:Märzklopfen 2026\nBesuchen Sie uns auf dem Markplatz in Ludwigsburg
URL:https://hofbrennerei-klatt.de/event/maerzklopfen/
LOCATION:Marktplatz Ludwigsburg\, Ludwigsburg\, BW\, Germany
END:VEVENT
BEGIN:VEVENT
DTSTART;VALUE=DATE:20260228
DTEND;VALUE=DATE:20260302
DTSTAMP:20260422T120735
CREATED:20260227T060025Z
LAST-MODIFIED:20260227T060025Z
UID:700-1772236800-1772409599@hofbrennerei-klatt.de
SUMMARY:„Wein von daheim“ – Messe am Wochenende
DESCRIPTION:Die Aussteller der Weinmesse in Großbottwar bieten für jeden Geschmack etwas: Schwäbische Klassiker wie Trollinger-Lemberger\, im Barrique gereifte internationale Rebsorten\, prickelnde Sekt- und Secco-Spezialitäten sowie Bio-Weine stehen zur Verkostung bereit. Die Winzer beantworten Fragen zu Anbau\, Ausbau\, Terroir und Trinktemperatur. Anders als im Supermarkt gibt es hier neben Kostproben auch ausführliche Beratung direkt von den Erzeugern. Zur Stärkung zwischendurch gibt’s Snacks wie z.B. Käse- und Vesperteller. Am Samstag besucht zudem die Württembergische Weinkönigin Natalie Schäfer die Messe.
URL:https://hofbrennerei-klatt.de/event/wein-von-daheim-messe-am-wochenende/
LOCATION:Harzberghalle\, In den Frauengärten 10\, Großbottwar\, BW\, 71723\, Germany
END:VEVENT
BEGIN:VEVENT
DTSTART;TZID=Europe/Paris:20251115T170000
DTEND;TZID=Europe/Paris:20251115T220000
DTSTAMP:20260422T120735
CREATED:20251102T165129Z
LAST-MODIFIED:20251102T165129Z
UID:692-1763226000-1763244000@hofbrennerei-klatt.de
SUMMARY:Apfelbach Weinopen mit der Hofbrennerei Klatt – ein Fest für die Sinne
DESCRIPTION:Apfelbach Weinopen mit der Hofbrennerei Klatt – ein Fest für die Sinne \nWenn sich am dritten Novemberwochenende die Tore zu den Apfelbach Weinopen öffnen\, verwandelt sich die Region in ein Paradies für Genießer. Heimische und internationale Weingüter präsentieren ihre edlen Tropfen\, laden zum Fachsimpeln mit Weinberatern ein und heißen auch Neulinge herzlich willkommen. Dazu gibt es feine Leckereien\, ein Fest das alle Sinne anspricht. \nInmitten dieses Genusserlebnisses glänzt die Hofbrennerei Klatt\, vertreten durch zwei außergewöhnliche Persönlichkeiten: Lea Klatt\, die ehemalige Destillatkönigin\, und Eva Speidel\, einstige Waldkönigin. Mit ihrer Leidenschaft für feine Brände und ihrer charmanten Präsenz verleihen sie dem Stand der Brennerei eine ganz besondere Atmosphäre. \nDie Hofbrennerei Klatt begeistert mit ihren Highlights: \n\n🔥 Der legendäre Burncommander\, ein kraftvoller Genuss\n🍊 Der Hofzauber\, ein cremiger Eierlikör auf Orangengeistbasis\n🍇 Die bekannten Tresterbrände\, traditionell und charakterstark\n\nBesuchen Sie uns bei den Apfelbach Weinopen – erleben Sie edle Weine\, feine Brände und königliche Gastfreundschaft!
URL:https://hofbrennerei-klatt.de/event/apfelbach-weinopen/
END:VEVENT
BEGIN:VEVENT
DTSTART;VALUE=DATE:20251103
DTEND;VALUE=DATE:20251109
DTSTAMP:20260422T120735
CREATED:20251102T124043Z
LAST-MODIFIED:20251102T125504Z
UID:689-1762128000-1762646399@hofbrennerei-klatt.de
SUMMARY:Spätlingsmarkt Ludwigsburg -- Wir sind dabei ! --Landratsamt Ludwigsburg
DESCRIPTION:Besuchen Sie uns auf dem Stand des Nordwürttembergischen Brennerverbandes. \nZusammen mir 5 befreundeten Brennereien betreiben wir von Montag bis Samstag den Marktstand. \nWir können Ihnen auf dem Stand folgende Produkte unserer Hofbrennerei anbieten: \nDen legendären Burncommander\, unseren PitGin\, der auch ohne GinTonic eine Wucht ist oder für die Likörliebhaber unseren Hofzauber\, wo sich Ei und Orangengeist unvergleichlich treffen. Fehlen darf für die Grappaliebhaber natürlich nicht der Muskateller Tresterbrand  aus dem Holzfass. Zur Abrundung haben wir im diesem Jahr einen Williamsbrand dabei. \nBesuchen Sie uns vom 3.11. bis 8.11.25 auf dem Stand. Sabine und Ich beraten Sie gerne persönlich am Dienstag und Donnerstag. An den übrigen Tagen stehen unsere Brennerkollegen „Rede und Antwort“. \nEurer Peter
URL:https://hofbrennerei-klatt.de/event/spaetlingsmarkt-2025-wir-sind-dabei/
LOCATION:Landratsamt Ludwigsburg
END:VEVENT
BEGIN:VEVENT
DTSTART;TZID=Europe/Paris:20251011T160000
DTEND;TZID=Europe/Paris:20251011T180000
DTSTAMP:20260422T120735
CREATED:20240916T124301Z
LAST-MODIFIED:20240916T124301Z
UID:664-1760198400-1760205600@hofbrennerei-klatt.de
SUMMARY:Weinverführung
DESCRIPTION:Die Familie Link bietet einen Rundgang durch die romantische Storchenstadt Großbottwar mit typischen Weinen\, engen Gassen\, stolzen Fachwerkhäusern und tiefen Kellern. Empfang im Backhäusle. \n  \nAnmeldungen bitte direkt an https://wein-ver-fuehrung.de/touren/stadt-und-wein/ \n 
URL:https://hofbrennerei-klatt.de/event/weinverfuehrung-mit-brennereibesichtigung/
ORGANIZER;CN="wein-ver-fuehrung.de":MAILTO:link-grossbottwar@t-online.de
END:VEVENT
BEGIN:VEVENT
DTSTART;TZID=Europe/Paris:20250609T110000
DTEND;TZID=Europe/Paris:20250609T180000
DTSTAMP:20260422T120735
CREATED:20250315T165228Z
LAST-MODIFIED:20250315T165228Z
UID:681-1749466800-1749492000@hofbrennerei-klatt.de
SUMMARY:140 Jahre Eselsmühle Großbottwar
DESCRIPTION:140 Jahre Eselsmühle Großbottwar mit dem Markt der schönen Dinge. \n  \nBesuchen sie uns auf unserem Stand an der Eselsmühle.
URL:https://hofbrennerei-klatt.de/event/140-jahre-eselsmuehle-grossbottwar/
LOCATION:Eselsmühle Großbottwar\, Wilhelmstrasse 19\, Großbottwar\, BW\, 71723\, Germany
END:VEVENT
BEGIN:VEVENT
DTSTART;TZID=Europe/Paris:20250323T110000
DTEND;TZID=Europe/Paris:20250323T180000
DTSTAMP:20260422T120735
CREATED:20250315T163645Z
LAST-MODIFIED:20250315T163645Z
UID:676-1742727600-1742752800@hofbrennerei-klatt.de
SUMMARY:Märzklopfen Ludwigsburg
DESCRIPTION:Ludwigsburg Märzklopfen 2025 \nBesuchen Sie uns direkt auf dem Stand 8 auf dem Marktplatz in Ludwigsburg.
URL:https://hofbrennerei-klatt.de/event/maerzklopfen-ludwigsburg/
LOCATION:Marktplatz Ludwigsburg\, Ludwigsburg\, BW\, Germany
END:VEVENT
BEGIN:VEVENT
DTSTART;TZID=Europe/Paris:20240920T160000
DTEND;TZID=Europe/Paris:20240920T170000
DTSTAMP:20260422T120735
CREATED:20240327T080441Z
LAST-MODIFIED:20240327T080441Z
UID:635-1726848000-1726851600@hofbrennerei-klatt.de
SUMMARY:Weinverführung
DESCRIPTION:Fam. Link bietet einen wohlschmeckenden Stadtrundgang\, der Großbottwars beste Seite zeigt. Enge Gassen\, stolzes Fachwerk\, tiefe Keller\, guter Wein\, eine Überraschung aus dem Backhäusle und nette Geschichten bleiben Ihnen in guter Erinnerung. \n  \nAnmeldungen nur über  wein-ver-fuehrung.de !
URL:https://hofbrennerei-klatt.de/event/weinverfuehrung-3/
ORGANIZER;CN="wein-ver-fuehrung.de":MAILTO:link-grossbottwar@t-online.de
END:VEVENT
BEGIN:VEVENT
DTSTART;TZID=Europe/Paris:20240309T160000
DTEND;TZID=Europe/Paris:20240309T170000
DTSTAMP:20260422T120735
CREATED:20240327T080225Z
LAST-MODIFIED:20240327T080225Z
UID:633-1710000000-1710003600@hofbrennerei-klatt.de
SUMMARY:Weinverführung
DESCRIPTION:Fam. Link bietet einen wohlschmeckenden Stadtrundgang\, der Großbottwars beste Seite zeigt. Enge Gassen\, stolzes Fachwerk\, tiefe Keller\, guter Wein\, eine Überraschung aus dem Backhäusle und nette Geschichten bleiben Ihnen in guter Erinnerung. \n  \nAnmeldungen nur über  wein-ver-fuehrung.de !
URL:https://hofbrennerei-klatt.de/event/weinverfuehrung-2/
ORGANIZER;CN="wein-ver-fuehrung.de":MAILTO:link-grossbottwar@t-online.de
END:VEVENT
BEGIN:VEVENT
DTSTART;TZID=Europe/Paris:20231118T180000
DTEND;TZID=Europe/Paris:20231118T220000
DTSTAMP:20260422T120735
CREATED:20231102T153817Z
LAST-MODIFIED:20231102T153817Z
UID:566-1700330400-1700344800@hofbrennerei-klatt.de
SUMMARY:Weinopen 2023 Apfelbach Getränke GmbH
DESCRIPTION:Am 18.11.2023 sind wir für Sie\, von 18:00 bis 22:00\, bei Apfelbach Getränke GmbH da. \nEintrittskarten zum Open können Sie gerne bei Apfelbach Getränke erwerben.
URL:https://hofbrennerei-klatt.de/event/weinopen-2023-apfelbach-getraenke-gmbh/
END:VEVENT
BEGIN:VEVENT
DTSTART;TZID=Europe/Paris:20231109T170000
DTEND;TZID=Europe/Paris:20231109T173000
DTSTAMP:20260422T120735
CREATED:20231102T192408Z
LAST-MODIFIED:20231102T192408Z
UID:587-1699549200-1699551000@hofbrennerei-klatt.de
SUMMARY:Urkundenverleihung durch Destillatkönigin Lea Klatt
DESCRIPTION:Am 9.11.2023\, um 17:00 Uhr\, wird die amtierende Destillatköniging Lea Klatt die Prämierung der Brände durchführen und die Urkunden überreichen.
URL:https://hofbrennerei-klatt.de/event/urkundenverleihung-durch-destillatkoenigin-lea-klatt/
LOCATION:Landratsamt Ludwigsburg
END:VEVENT
BEGIN:VEVENT
DTSTART;TZID=Europe/Paris:20231106T180000
DTEND;TZID=Europe/Paris:20231106T190000
DTSTAMP:20260422T120735
CREATED:20231102T191922Z
LAST-MODIFIED:20231102T191943Z
UID:584-1699293600-1699297200@hofbrennerei-klatt.de
SUMMARY:Destillatkönigin Lea Klatt auf dem Spätlingsmarkt 2023
DESCRIPTION:Lea Klatt wird am 6.11.2023 zur Eröffnung des Spätlingsmarktes  ab 18:00 vor Ort sein. \nAm 9.11.2023\, um 17:00 Uhr\, wird Sie zur Prämierung der Brände die Urkunden überreichen. \n 
URL:https://hofbrennerei-klatt.de/event/destillatkoenigin-lea-klatt-auf-dem-spaetlingsmarkt-2023/
LOCATION:Landratsamt Ludwigsburg
END:VEVENT
BEGIN:VEVENT
DTSTART;VALUE=DATE:20231106
DTEND;VALUE=DATE:20231112
DTSTAMP:20260422T120735
CREATED:20231102T152153Z
LAST-MODIFIED:20231102T152153Z
UID:563-1699228800-1699747199@hofbrennerei-klatt.de
SUMMARY:Spätlingsmarkt 2023
DESCRIPTION:Es ist wieder soweit\, vom 6.11 bis 11.11.2023 findet der 23. Spätlingsmarkt im Landratsamt Ludwigsburg statt. \nWir bieten eine kleine Auswahl unserer Produkte zusammen mit unseren Brennerkollegen an. Mit dabei sind eine Auswahl an Trester und Obstbränden. Wie immer ungezuckert. \nNeu vorgestellt wird der Burncommander No.8. \, 20 Monate Fassgereift\, 47\,1%\, ungefiltert\,single barrel. Lassen Sie sich überraschen! \n 
URL:https://hofbrennerei-klatt.de/event/spaetlingsmarkt-2023/
END:VEVENT
BEGIN:VEVENT
DTSTART;TZID=Europe/Paris:20231027T163000
DTEND;TZID=Europe/Paris:20231027T173000
DTSTAMP:20260422T120735
CREATED:20230205T170819Z
LAST-MODIFIED:20230205T170939Z
UID:539-1698424200-1698427800@hofbrennerei-klatt.de
SUMMARY:Weinverführung
DESCRIPTION:Fam. Link bietet einen wohlschmeckenden Stadtrundgang\, der Großbottwars beste Seite zeigt. Enge Gassen\, stolzes Fachwerk\, tiefe Keller\, guter Wein\, eine Überraschung aus dem Backhäusle und nette Geschichten bleiben Ihnen in guter Erinnerung. \n  \nAnmeldungen nur über  wein-ver-fuehrung.de !
URL:https://hofbrennerei-klatt.de/event/weinverfuehrung/
ORGANIZER;CN="wein-ver-fuehrung.de":MAILTO:link-grossbottwar@t-online.de
END:VEVENT
END:VCALENDAR